BEGIN:VCALENDAR
PRODID:Nexudus
VERSION:2.0
BEGIN:VTIMEZONE
TZID:Europe/Paris
X-LIC-LOCATION:Europe/Paris
BEGIN:STANDARD
DTSTART:20241027T030000
RRULE:FREQ=YEARLY;BYDAY=-1SU;BYMONTH=10
TZNAME:CET
TZOFFSETFROM:+0200
TZOFFSETTO:+0100
END:STANDARD
BEGIN:DAYLIGHT
DTSTART:20250330T020000
RRULE:FREQ=YEARLY;BYDAY=-1SU;BYMONTH=3
TZNAME:CEST
TZOFFSETFROM:+0100
TZOFFSETTO:+0200
END:DAYLIGHT
END:VTIMEZONE
BEGIN:VEVENT
DESCRIPTION:AUTOR:Dramaturgia Raquel Toledo sobre fragmentos y poemas de au
 tores varios\nDIRECCION: RAQUEL TOLEDO\nDURACION: 60 MINUTOS\n- Propuesta 
 de teatro contemporáneo donde se fusionan poesías de mujeres\ncordobesas
  y de otros lugares de España\, con canciones populares y acciones\nfísi
 cas relacionadas con la frustración\, el deseo y el abuso de poder y frag
 mentos\nde la obra corta "La institutriz" de Antón Chejóv versionados.\n
 Event link: https://teatroavanti.spaces.nexudus.com/en/events/view/2937224
 41/xi-muestra-de-teatro-aficionado---venta-de-localidades-solo-en-taquilla
 -del-teatro-entrada-unica-3-\n
DTEND;TZID=Europe/Paris:20170217T000000
DTSTAMP:20260423T030643Z
DTSTART;TZID=Europe/Paris:20170217T210000
LOCATION:Teatro Avanti
SEQUENCE:0
SUMMARY:XI MUESTRA DE TEATRO AFICIONADO - Venta de localidades solo en taqu
 illa del teatro-Entrada unica 3€
UID:a346d5d7-3259-48ef-ac05-4835a2f1cd16
END:VEVENT
END:VCALENDAR
