BEGIN:VCALENDAR
PRODID:Nexudus
VERSION:2.0
BEGIN:VTIMEZONE
TZID:Europe/Paris
X-LIC-LOCATION:Europe/Paris
BEGIN:STANDARD
DTSTART:20241027T030000
RRULE:FREQ=YEARLY;BYDAY=-1SU;BYMONTH=10
TZNAME:CET
TZOFFSETFROM:+0200
TZOFFSETTO:+0100
END:STANDARD
BEGIN:DAYLIGHT
DTSTART:20250330T020000
RRULE:FREQ=YEARLY;BYDAY=-1SU;BYMONTH=3
TZNAME:CEST
TZOFFSETFROM:+0100
TZOFFSETTO:+0200
END:DAYLIGHT
END:VTIMEZONE
BEGIN:VEVENT
DESCRIPTION:Es un espectáculo donde se recogen las hazañas más entreteni
 das de la\nnovela de Cervantes\, las peripecias donde realidad y ficción 
 se confunden.\nEs una introducción teatral a esta novela universal de for
 ma amena y divertida\,\ncercana al público infantil.\nEvent link: https:/
 /teatroavanti.spaces.nexudus.com/en/events/view/274048785/aventuras-de-don
 -quijote---domingo-19-marzo--18-00-h---público-familiar--infantil-5----ad
 ulto-6--\n
DTEND;TZID=Europe/Paris:20170319T190000
DTSTAMP:20260423T014411Z
DTSTART;TZID=Europe/Paris:20170319T180000
LOCATION:Teatro Avanti
SEQUENCE:0
SUMMARY:AVENTURAS DE DON QUIJOTE - Domingo 19 Marzo (18:00 h.) Público Fam
 iliar. Infantil 5€ - Adulto 6€.
UID:a26c5a27-37a9-4234-a0b9-73e78c69df24
END:VEVENT
END:VCALENDAR
