BEGIN:VCALENDAR
PRODID:Nexudus
VERSION:2.0
BEGIN:VTIMEZONE
TZID:Europe/Paris
X-LIC-LOCATION:Europe/Paris
BEGIN:STANDARD
DTSTART:20241027T030000
RRULE:FREQ=YEARLY;BYDAY=-1SU;BYMONTH=10
TZNAME:CET
TZOFFSETFROM:+0200
TZOFFSETTO:+0100
END:STANDARD
BEGIN:DAYLIGHT
DTSTART:20250330T020000
RRULE:FREQ=YEARLY;BYDAY=-1SU;BYMONTH=3
TZNAME:CEST
TZOFFSETFROM:+0100
TZOFFSETTO:+0200
END:DAYLIGHT
END:VTIMEZONE
BEGIN:VEVENT
DESCRIPTION:EL DERBY - Humor declarado de alto riesgo. Si tiene problemas c
 ardiobasculares abstengase de venir un derby es un derby\, asi que si no s
 intes la emocion de un derby\, "mejon te quea en tu casa".\nCon Toni Rodri
 guez\, Comandante Lara\, Jesus Cañete y Vicente Ruidos.\nEvent link: http
 s://teatroavanti.spaces.nexudus.com/en/events/view/273141870/últimas-loca
 lidades-para-las-18-00h-sólo-venta-en-taquilla--entrada-única-12--antici
 pada-15--el-mismo-día-de-la-función--el-derby--domingo-12-febrero--18-00
 -y-20-30-horas--todos-los-públicos-\n
DTEND;TZID=Europe/Paris:20170212T203000
DTSTAMP:20260423T030517Z
DTSTART;TZID=Europe/Paris:20170212T180000
LOCATION:Teatro Avanti
SEQUENCE:0
SUMMARY:ÚLTIMAS LOCALIDADES PARA LAS 18.00H SÓLO VENTA EN TAQUILLA -Entra
 da única 12€ Anticipada 15€ el mismo día de la función -EL DERBY  D
 omingo 12 Febrero (18:00 y 20:30 horas) Todos los Públicos. 
UID:0f47c115-0552-442e-85a8-168864c48aed
END:VEVENT
END:VCALENDAR
