BEGIN:VCALENDAR
PRODID:Nexudus
VERSION:2.0
BEGIN:VTIMEZONE
TZID:Europe/Paris
X-LIC-LOCATION:Europe/Paris
BEGIN:STANDARD
DTSTART:20241027T030000
RRULE:FREQ=YEARLY;BYDAY=-1SU;BYMONTH=10
TZNAME:CET
TZOFFSETFROM:+0200
TZOFFSETTO:+0100
END:STANDARD
BEGIN:DAYLIGHT
DTSTART:20250330T020000
RRULE:FREQ=YEARLY;BYDAY=-1SU;BYMONTH=3
TZNAME:CEST
TZOFFSETFROM:+0100
TZOFFSETTO:+0200
END:DAYLIGHT
END:VTIMEZONE
BEGIN:VEVENT
DESCRIPTION:Liliput es un cuento sencillo y poético. Un universo sonoro qu
 e se va\nconstruyendo a medida que avanza\, que mezcla la música en vivo 
 con las\naportaciones puntuales del público más pequeño. Un mundo dimin
 uto\, muy\nespecial y que\, en muchos aspectos\, es reflejo del nuestro.\n
 Event link: https://teatroavanti.spaces.nexudus.com/en/events/view/2709186
 49/liliput---domingo-15-enero--18-00-h---público-familiar\n
DTEND;TZID=Europe/Paris:20170115T190000
DTSTAMP:20260423T043947Z
DTSTART;TZID=Europe/Paris:20170115T180000
LOCATION:TEATRO AVANTI
SEQUENCE:0
SUMMARY:LILIPUT - Domingo 15 Enero (18:00 h.) Público Familiar
UID:a865d48b-1b51-4049-8c23-0eea4a265b1c
END:VEVENT
END:VCALENDAR
