BEGIN:VCALENDAR
PRODID:Nexudus
VERSION:2.0
BEGIN:VTIMEZONE
TZID:Europe/Paris
X-LIC-LOCATION:Europe/Paris
BEGIN:STANDARD
DTSTART:20241027T030000
RRULE:FREQ=YEARLY;BYDAY=-1SU;BYMONTH=10
TZNAME:CET
TZOFFSETFROM:+0200
TZOFFSETTO:+0100
END:STANDARD
BEGIN:DAYLIGHT
DTSTART:20250330T020000
RRULE:FREQ=YEARLY;BYDAY=-1SU;BYMONTH=3
TZNAME:CEST
TZOFFSETFROM:+0100
TZOFFSETTO:+0200
END:DAYLIGHT
END:VTIMEZONE
BEGIN:VEVENT
DESCRIPTION:Les esperamos en Córdoba los días 16 y 17 de Diciembre de 201
 6 para actuar juntxs\, desvirtualizarnos\, entrenarnos con los juegos del 
 arsenal\, reflexionar acerca del sincretismo entre disciplinas artísticas
 \, desaprender mucho y aprender más…\n\n\nEvent link: https://teatroava
 nti.spaces.nexudus.com/en/events/view/264446333/ii-muestra-de-teatro-socia
 l-como-herramienta-educativa-emancipadora\n
DTEND;TZID=Europe/Paris:20161217T220000
DTSTAMP:20260423T043835Z
DTSTART;TZID=Europe/Paris:20161216T113000
LOCATION:Teatro Avanti
SEQUENCE:0
SUMMARY: II Muestra de Teatro Social como herramienta educativa emancipador
 a 
UID:ac6a718b-33ce-43c0-9629-dc867c1ade55
END:VEVENT
END:VCALENDAR
