BEGIN:VCALENDAR
PRODID:Nexudus
VERSION:2.0
BEGIN:VTIMEZONE
TZID:Europe/Paris
X-LIC-LOCATION:Europe/Paris
BEGIN:STANDARD
DTSTART:20241027T030000
RRULE:FREQ=YEARLY;BYDAY=-1SU;BYMONTH=10
TZNAME:CET
TZOFFSETFROM:+0200
TZOFFSETTO:+0100
END:STANDARD
BEGIN:DAYLIGHT
DTSTART:20250330T020000
RRULE:FREQ=YEARLY;BYDAY=-1SU;BYMONTH=3
TZNAME:CEST
TZOFFSETFROM:+0100
TZOFFSETTO:+0200
END:DAYLIGHT
END:VTIMEZONE
BEGIN:VEVENT
DESCRIPTION:“Luna Mora” es un sentir a traves se la Danza Oriental\, po
 r la feminidad y el alma de la mujer\, representada en los Ciclos de la Lu
 na. De la no visible y sensible LUNA NUEVA a la introspección e iluminaci
 ón del CUARTO CRECIENTE LUNAR hasta la explosión del brillo de la LUNA L
 LENA\, cargada de placer y excitación\, para llegar al tiempo menguante d
 e esa Luna Nueva en un estado defensivo y reflexivo...momento culmen del c
 iclo\, donde algo muere y nos sentimos vulnerables\, momento en el que tam
 bién algo está por volver a comenzar...Huir o pelear???\nEvent link: htt
 ps://teatroavanti.spaces.nexudus.com/en/events/view/249861619/luna-mora--1
 9-noviembre--21-00-horas--todos-los-públicos\n
DTEND;TZID=Europe/Paris:20161119T210000
DTSTAMP:20260423T044034Z
DTSTART;TZID=Europe/Paris:20161119T210000
LOCATION:Teatro Avanti
SEQUENCE:0
SUMMARY:Luna Mora. 19 Noviembre (21:00 horas) Todos los Públicos
UID:825a9fd9-03e1-4c94-8038-00b6991b07e9
END:VEVENT
END:VCALENDAR
