BEGIN:VCALENDAR
PRODID:Nexudus
VERSION:2.0
BEGIN:VTIMEZONE
TZID:Europe/Paris
X-LIC-LOCATION:Europe/Paris
BEGIN:STANDARD
DTSTART:20241027T030000
RRULE:FREQ=YEARLY;BYDAY=-1SU;BYMONTH=10
TZNAME:CET
TZOFFSETFROM:+0200
TZOFFSETTO:+0100
END:STANDARD
BEGIN:DAYLIGHT
DTSTART:20250330T020000
RRULE:FREQ=YEARLY;BYDAY=-1SU;BYMONTH=3
TZNAME:CEST
TZOFFSETFROM:+0100
TZOFFSETTO:+0200
END:DAYLIGHT
END:VTIMEZONE
BEGIN:VEVENT
DESCRIPTION:El coro Gospel Córdoba es pura energía y fuerza sobre el esce
 nario. Este grupo de voces transmiten en su directo sensaciones únicas...
  Clásicos del gospel y éxitos del pop y el rock de ayer y hoy llevados a
 l gospel que deleitarán tus sentidos y te levantarán del asiento. Ven y 
 disfruta de la alegría del coro Gospel Córdoba\, bajo la dirección de\n
 Nacho Lozano.\nUna experiencia Joyful!!!!\nEvent link: https://teatroavant
 i.spaces.nexudus.com/en/events/view/249669440/agotadas-localidades--gospel
 -córdoba--viernes-25-de-noviembre--21-00-horas--todos-los-públicos\n
DTEND;TZID=Europe/Paris:20161125T210000
DTSTAMP:20260423T044003Z
DTSTART;TZID=Europe/Paris:20161125T210000
LOCATION:Teatro Avanti
SEQUENCE:0
SUMMARY: AGOTADAS LOCALIDADES. Gospel Córdoba. Viernes 25 de Noviembre (21
 :00 horas) Todos los Públicos
UID:73df3be1-040e-4e1e-911d-846ac73af5a9
END:VEVENT
END:VCALENDAR
