BEGIN:VCALENDAR
PRODID:Nexudus
VERSION:2.0
BEGIN:VTIMEZONE
TZID:Europe/Paris
X-LIC-LOCATION:Europe/Paris
BEGIN:STANDARD
DTSTART:20241027T030000
RRULE:FREQ=YEARLY;BYDAY=-1SU;BYMONTH=10
TZNAME:CET
TZOFFSETFROM:+0200
TZOFFSETTO:+0100
END:STANDARD
BEGIN:DAYLIGHT
DTSTART:20250330T020000
RRULE:FREQ=YEARLY;BYDAY=-1SU;BYMONTH=3
TZNAME:CEST
TZOFFSETFROM:+0100
TZOFFSETTO:+0200
END:DAYLIGHT
END:VTIMEZONE
BEGIN:VEVENT
DESCRIPTION:Chan tum. Mad Martin. Un mago chino muy particular\, que combin
 a magia y\n“humor amarillo” a partes iguales\, haciendo las delicias d
 e niños y adultos. Si te\ngusta la magia\, el humor\, el asombro y la ris
 a\, con CHAN TUM está garantizado.\nEvent link: https://teatroavanti.spac
 es.nexudus.com/en/events/view/246301099/chan-tum---el-mago-argenchino--dom
 ingo-6-noviembre\n
DTEND;TZID=Europe/Paris:20161106T120000
DTSTAMP:20260423T060452Z
DTSTART;TZID=Europe/Paris:20161106T120000
LOCATION:Teatro Avanti
SEQUENCE:0
SUMMARY:Chan tum- "El Mago Argenchino" Domingo 6 Noviembre 
UID:b6d61e67-f447-456b-a20d-a846bfc0c2af
END:VEVENT
END:VCALENDAR
