BEGIN:VCALENDAR
PRODID:Nexudus
VERSION:2.0
BEGIN:VTIMEZONE
TZID:Europe/Paris
X-LIC-LOCATION:Europe/Paris
BEGIN:STANDARD
DTSTART:20241027T030000
RRULE:FREQ=YEARLY;BYDAY=-1SU;BYMONTH=10
TZNAME:CET
TZOFFSETFROM:+0200
TZOFFSETTO:+0100
END:STANDARD
BEGIN:DAYLIGHT
DTSTART:20250330T020000
RRULE:FREQ=YEARLY;BYDAY=-1SU;BYMONTH=3
TZNAME:CEST
TZOFFSETFROM:+0100
TZOFFSETTO:+0200
END:DAYLIGHT
END:VTIMEZONE
BEGIN:VEVENT
DESCRIPTION:VENTA DE ENTRADAS SOLO EN TAQUILLA (en nuestro horario habitual
 )\n\nMad Martin\nShow donde la magia\, el humor\, la música y la puesta e
 n escena convierten el truco\nmás simple en un espectáculo que va más a
 llá de la imaginación.\nJaime Figueroa\nCampeón de “Magia Cómica” 
 en el Congreso Nacional de Magia 2011.\nPablo Canovas\nEste joven ilusioni
 sta cordobés\, a sus 16 años\, ya ha conquistado algunos de los\nmejores
  teatros en España. Es el mago más joven reconocido y galardonado a nive
 l\nnacional e internacional.\nMag o Cobra\nEspectáculo tematizado\, visua
 l acompañado por una banda sonora de película\, un\nviaje al fantástico
  mundo de los piratas.\nEvent link: https://teatroavanti.spaces.nexudus.co
 m/en/events/view/246301098/gala-magica---sábado-5-noviembre--21-00-horas-
 -todos-los-públicos--venta-de-entradas-solo-en-taquilla\n
DTEND;TZID=Europe/Paris:20161105T220000
DTSTAMP:20260423T060453Z
DTSTART;TZID=Europe/Paris:20161105T090000
LOCATION:Teatro Avanti
SEQUENCE:0
SUMMARY:GALA MAGICA - Sábado 5 Noviembre (21:00 horas) Todos los Públicos
 . VENTA DE ENTRADAS SOLO EN TAQUILLA
UID:216ae513-02a8-4959-be98-ff09aaacf8ce
END:VEVENT
END:VCALENDAR
