BEGIN:VCALENDAR
PRODID:Nexudus
VERSION:2.0
BEGIN:VTIMEZONE
TZID:Europe/Paris
X-LIC-LOCATION:Europe/Paris
BEGIN:STANDARD
DTSTART:20241027T030000
RRULE:FREQ=YEARLY;BYDAY=-1SU;BYMONTH=10
TZNAME:CET
TZOFFSETFROM:+0200
TZOFFSETTO:+0100
END:STANDARD
BEGIN:DAYLIGHT
DTSTART:20250330T020000
RRULE:FREQ=YEARLY;BYDAY=-1SU;BYMONTH=3
TZNAME:CEST
TZOFFSETFROM:+0100
TZOFFSETTO:+0200
END:DAYLIGHT
END:VTIMEZONE
BEGIN:VEVENT
DESCRIPTION:En 2007 batió un record de voluntarios cuando hipnotizó en la
  Facultad de Sevilla\na más de 200 personas a la vez.Ha actuado en Españ
 a\, Italia\, Portugal\, Alemania\,\nBrasil o Marruecos.\nEvent link: https
 ://teatroavanti.spaces.nexudus.com/en/events/view/246301064/hipnosis-con-m
 ario-el-mago--sevilla----viernes-4-noviembre--21-00-\n
DTEND;TZID=Europe/Paris:20161104T200000
DTSTAMP:20260423T060534Z
DTSTART;TZID=Europe/Paris:20161104T110000
LOCATION:Teatro Avanti
SEQUENCE:0
SUMMARY:Hipnosis con Mario el Mago (Sevilla) - Viernes 4 Noviembre (21:00)
UID:435dfb8c-7baa-47bd-be5b-3cc3aed671db
END:VEVENT
END:VCALENDAR
