BEGIN:VCALENDAR
PRODID:Nexudus
VERSION:2.0
BEGIN:VTIMEZONE
TZID:Europe/Paris
X-LIC-LOCATION:Europe/Paris
BEGIN:STANDARD
DTSTART:20241027T030000
RRULE:FREQ=YEARLY;BYDAY=-1SU;BYMONTH=10
TZNAME:CET
TZOFFSETFROM:+0200
TZOFFSETTO:+0100
END:STANDARD
BEGIN:DAYLIGHT
DTSTART:20250330T020000
RRULE:FREQ=YEARLY;BYDAY=-1SU;BYMONTH=3
TZNAME:CEST
TZOFFSETFROM:+0100
TZOFFSETTO:+0200
END:DAYLIGHT
END:VTIMEZONE
BEGIN:VEVENT
DESCRIPTION:Un violín\, una habitación encantada del siglo XIX y una jove
 n aprendiz más atraída por la magia que por su Stradivarius. Celestina a
 prenderá que los juegos tienen sus reglas\, que la magia tiene truco y qu
 e hay que ensayar mucho para poder ser violinista.\n\nTántrico Teatro\nEv
 ent link: https://teatroavanti.spaces.nexudus.com/en/events/view/237670438
 /celestina-y-el-espejo-mágico--23-oct--12-00-y-18-00-horas-\n
DTEND;TZID=Europe/Paris:20161023T180000
DTSTAMP:20260423T060635Z
DTSTART;TZID=Europe/Paris:20161023T120000
LOCATION:Teatro Avanti
SEQUENCE:0
SUMMARY:Celestina y el espejo mágico (23 Oct. 12:00 y 18:00 horas)
UID:742e517d-de0e-495b-9558-004eb28af7ae
END:VEVENT
END:VCALENDAR
