BEGIN:VCALENDAR
PRODID:Nexudus
VERSION:2.0
BEGIN:VTIMEZONE
TZID:Europe/Paris
X-LIC-LOCATION:Europe/Paris
BEGIN:STANDARD
DTSTART:20241027T030000
RRULE:FREQ=YEARLY;BYDAY=-1SU;BYMONTH=10
TZNAME:CET
TZOFFSETFROM:+0200
TZOFFSETTO:+0100
END:STANDARD
BEGIN:DAYLIGHT
DTSTART:20250330T020000
RRULE:FREQ=YEARLY;BYDAY=-1SU;BYMONTH=3
TZNAME:CEST
TZOFFSETFROM:+0100
TZOFFSETTO:+0200
END:DAYLIGHT
END:VTIMEZONE
BEGIN:VEVENT
DESCRIPTION:Enganchada con las películas clásicas\, nuestra actriz se dej
 a llevar por la emoción de las grandes de Hollywood. Quién hubiera podid
 o besar a Humprey Bogart en Casablanca\, abrazar la espalda de Paul Newman
  y pelearse con él en la Gata sobre el Tejado de Zinc Caliente o sentir s
 us propios latidos asustada hasta el límite como Janet Leigh en Psicosis
 …\n\nTántrico teatro (Cádiz)\nEvent link: https://teatroavanti.spaces.
 nexudus.com/en/events/view/237670437/palomitas-en-el-futón--21-y-22-oct--
 --21-00-horas-\n
DTEND;TZID=Europe/Paris:20161022T210000
DTSTAMP:20260423T060610Z
DTSTART;TZID=Europe/Paris:20161021T210000
LOCATION:Teatro Avanti
SEQUENCE:0
SUMMARY:Palomitas en el futón (21 y 22 Oct. - 21:00 horas)
UID:ce161154-4a4d-4d7f-8cf1-2337c0e3158c
END:VEVENT
END:VCALENDAR
