BEGIN:VCALENDAR
PRODID:Nexudus
VERSION:2.0
BEGIN:VTIMEZONE
TZID:Europe/Paris
X-LIC-LOCATION:Europe/Paris
BEGIN:STANDARD
DTSTART:20241027T030000
RRULE:FREQ=YEARLY;BYDAY=-1SU;BYMONTH=10
TZNAME:CET
TZOFFSETFROM:+0200
TZOFFSETTO:+0100
END:STANDARD
BEGIN:DAYLIGHT
DTSTART:20250330T020000
RRULE:FREQ=YEARLY;BYDAY=-1SU;BYMONTH=3
TZNAME:CEST
TZOFFSETFROM:+0100
TZOFFSETTO:+0200
END:DAYLIGHT
END:VTIMEZONE
BEGIN:VEVENT
DESCRIPTION:Rubén\, un hombre de mediana edad\, va a encontrarse por prime
 ra vez con su novia\, a la que ha conocido por Internet. Ha hecho un largo
  viaje hasta Andalucía occidental. Pero quien recibe a Rubén es Vera\, l
 a hija de su pareja\, una adolescente inteligente\, descarada\, inquisitiv
 a\, voluble y volcánica. Aunque el viento de levante aprieta\, la gran ve
 ntana del salón de la casa está abierta\, y así debe permanecer\, asegu
 ra la chica\; aunque se niega a explicar el porqué. Pero\, ¿de qué vent
 ana estamos hablando?\n\nSala Cero (Sevilla)\nEvent link: https://teatroav
 anti.spaces.nexudus.com/en/events/view/237643407/la-ventana-abierta--30-se
 p-1-oct---21-00-horas-\n
DTEND;TZID=Europe/Paris:20161001T230000
DTSTAMP:20260423T060452Z
DTSTART;TZID=Europe/Paris:20160930T210000
LOCATION:Teatro Avanti
SEQUENCE:0
SUMMARY:La Ventana Abierta (30 Sep-1 Oct - 21:00 horas)
UID:88755b09-398d-4085-9f76-86e63b00bd26
END:VEVENT
END:VCALENDAR
