BEGIN:VCALENDAR
PRODID:Nexudus
VERSION:2.0
BEGIN:VTIMEZONE
TZID:Europe/Paris
X-LIC-LOCATION:Europe/Paris
BEGIN:STANDARD
DTSTART:20241027T030000
RRULE:FREQ=YEARLY;BYDAY=-1SU;BYMONTH=10
TZNAME:CET
TZOFFSETFROM:+0200
TZOFFSETTO:+0100
END:STANDARD
BEGIN:DAYLIGHT
DTSTART:20250330T020000
RRULE:FREQ=YEARLY;BYDAY=-1SU;BYMONTH=3
TZNAME:CEST
TZOFFSETFROM:+0100
TZOFFSETTO:+0200
END:DAYLIGHT
END:VTIMEZONE
BEGIN:VEVENT
DESCRIPTION:Los Saja Boys quieren conquistar al público y robar sus almas 
 con su música\, pero las Guerreras K-Pop no se lo pondrán fácil. Con vo
 ces en directo\, coreografías profesionales y una historia llena de fanta
 sía y poder\, este espectáculo convierte el escenario en una batalla don
 de la música y la luz son las verdaderas armas.\nEvent link: https://teat
 roavanti.spaces.nexudus.com/en/events/view/1415667523/k-pop-idols---prosce
 nium-teatro-musical---domingo-4-octubre--12-00-h--todos-los-públicos\n
DTEND;TZID=Europe/Paris:20261004T130000
DTSTAMP:20260420T231855Z
DTSTART;TZID=Europe/Paris:20261004T120000
LOCATION:Teatro Avanti
SEQUENCE:0
SUMMARY:K-POP IDOLS - Proscenium Teatro Musical - Domingo 4 Octubre (12:00 
 h) Todos los públicos
UID:8cd5b019-a85a-4d6f-9ff8-546b389dfd07
END:VEVENT
END:VCALENDAR
