BEGIN:VCALENDAR
PRODID:Nexudus
VERSION:2.0
BEGIN:VTIMEZONE
TZID:Europe/Paris
X-LIC-LOCATION:Europe/Paris
BEGIN:STANDARD
DTSTART:20241027T030000
RRULE:FREQ=YEARLY;BYDAY=-1SU;BYMONTH=10
TZNAME:CET
TZOFFSETFROM:+0200
TZOFFSETTO:+0100
END:STANDARD
BEGIN:DAYLIGHT
DTSTART:20250330T020000
RRULE:FREQ=YEARLY;BYDAY=-1SU;BYMONTH=3
TZNAME:CEST
TZOFFSETFROM:+0100
TZOFFSETTO:+0200
END:DAYLIGHT
END:VTIMEZONE
BEGIN:VEVENT
DESCRIPTION:El Sr. Stern\, un judío ortodoxo de 85 años que vive en Nueva
  York y que recientemente ha sufrido la pérdida de su esposa\, es atropel
 lado sin consecuencias por Peter\, un joven de buena posición económica.
  El juez le condena a un periodo de trabajos sociales con Stern\, como pen
 a por su negligencia. Durante estos días se establecerá entre ellos una 
 relación profundamente humana.\nEvent link: https://teatroavanti.spaces.n
 exudus.com/en/events/view/1415151619/cartas-a-mamá---squizo-teatro---sáb
 ado-11-febrero--21-00-h--público-adulto\n
DTEND;TZID=Europe/Paris:20230211T220000
DTSTAMP:20260421T121734Z
DTSTART;TZID=Europe/Paris:20230211T210000
LOCATION:Teatro Avanti
SEQUENCE:0
SUMMARY:CARTAS A MAMÁ - Squizo Teatro - Sábado 11 Febrero (21:00 h) Públ
 ico Adulto
UID:06314317-24d8-4213-a4fc-34e00d02acf6
END:VEVENT
END:VCALENDAR
