BEGIN:VCALENDAR
PRODID:Nexudus
VERSION:2.0
BEGIN:VTIMEZONE
TZID:Europe/Paris
X-LIC-LOCATION:Europe/Paris
BEGIN:STANDARD
DTSTART:20241027T030000
RRULE:FREQ=YEARLY;BYDAY=-1SU;BYMONTH=10
TZNAME:CET
TZOFFSETFROM:+0200
TZOFFSETTO:+0100
END:STANDARD
BEGIN:DAYLIGHT
DTSTART:20250330T020000
RRULE:FREQ=YEARLY;BYDAY=-1SU;BYMONTH=3
TZNAME:CEST
TZOFFSETFROM:+0100
TZOFFSETTO:+0200
END:DAYLIGHT
END:VTIMEZONE
BEGIN:VEVENT
DESCRIPTION:Verbo\, Festival de la Palabra es un encuentro multidisciplinar
  en el que destacadas personalidades procedentes de la cultura\, la cienci
 a o la filosofía conversarán sobre la importancia de la palabra como med
 io creativo\, canal de conocimiento y punto de encuentro. En la jornada in
 augural también habrá espacio para la música\, de la mano de BRONQUIO\,
  músico y productor jerezano\, gran revelación en el panorama musical de
  2022.\nEvent link: https://teatroavanti.spaces.nexudus.com/en/events/view
 /1415132416/verbo--festival-de-la-palabra---jueves-15-diciembre--19-30-h--
 --todos-los-públicos-\n
DTEND;TZID=Europe/Paris:20221215T203000
DTSTAMP:20260421T121734Z
DTSTART;TZID=Europe/Paris:20221215T193000
LOCATION:Teatro Avanti
SEQUENCE:0
SUMMARY:VERBO\, FESTIVAL DE LA PALABRA - Jueves 15 Diciembre (19:30 h) - To
 dos los públicos.
UID:ce14e2f3-5f34-4279-98aa-1ff9d3f56dae
END:VEVENT
END:VCALENDAR
