BEGIN:VCALENDAR
PRODID:Nexudus
VERSION:2.0
BEGIN:VTIMEZONE
TZID:Europe/Paris
X-LIC-LOCATION:Europe/Paris
BEGIN:STANDARD
DTSTART:20241027T030000
RRULE:FREQ=YEARLY;BYDAY=-1SU;BYMONTH=10
TZNAME:CET
TZOFFSETFROM:+0200
TZOFFSETTO:+0100
END:STANDARD
BEGIN:DAYLIGHT
DTSTART:20250330T020000
RRULE:FREQ=YEARLY;BYDAY=-1SU;BYMONTH=3
TZNAME:CEST
TZOFFSETFROM:+0100
TZOFFSETTO:+0200
END:DAYLIGHT
END:VTIMEZONE
BEGIN:VEVENT
DESCRIPTION:‘¡Qué gran festín!’\, un musical con una trama muy diver
 tida de la mano del dúo Lumiere y Dindon. Juntos nos guiarán por un reco
 rrido de magia y fantasía con más de 25 personajes con voces en directo 
 y una gran puesta en escena: Frozen\, Vaiana\, Coco\, Aladdin\, Rey león\
 , Sirenita\, Rapunzel\, Toy Story\, Bella y Bestia y muchos más. Un elenc
 o de cantantes y bailarines que emocionarán al niñ@ que vive en ti!!\nEv
 ent link: https://teatroavanti.spaces.nexudus.com/en/events/view/141513049
 6/-qué-festín----teatropía-xxi---domingo-5-febrero--12-00-h-y-17-00-h--
 público-familiar\n
DTEND;TZID=Europe/Paris:20230205T173000
DTSTAMP:20260421T121734Z
DTSTART;TZID=Europe/Paris:20230205T120000
LOCATION:Teatro Avanti
SEQUENCE:0
SUMMARY:¡QUÉ FESTÍN! - Teatropía XXI - Domingo 5 Febrero (12:00 h y 17:
 00 h) Público Familiar
UID:12dc19df-9a79-4ff8-8eb2-88ad52f92ed0
END:VEVENT
END:VCALENDAR
