BEGIN:VCALENDAR
PRODID:Nexudus
VERSION:2.0
BEGIN:VTIMEZONE
TZID:Europe/Paris
X-LIC-LOCATION:Europe/Paris
BEGIN:STANDARD
DTSTART:20241027T030000
RRULE:FREQ=YEARLY;BYDAY=-1SU;BYMONTH=10
TZNAME:CET
TZOFFSETFROM:+0200
TZOFFSETTO:+0100
END:STANDARD
BEGIN:DAYLIGHT
DTSTART:20250330T020000
RRULE:FREQ=YEARLY;BYDAY=-1SU;BYMONTH=3
TZNAME:CEST
TZOFFSETFROM:+0100
TZOFFSETTO:+0200
END:DAYLIGHT
END:VTIMEZONE
BEGIN:VEVENT
DESCRIPTION:Tras más de 20 años de experiencia teatral en los que ha cola
 borado con algunas de las más importantes compañías malagueñas\, Migue
 l Ángel se vuelve viral durante el confinamiento a través de su “Diari
 o de un Confinamiento” en el que\, desde su cocina\, en pijama y con su 
 taza de café\, reflexionaba sobre temas cotidianos con mucho humor y un t
 oque de ironía.\nTras el confinamiento continúa con sus vídeos en sus r
 edes\, donde ha multiplicado sus seguidores\, compartiendo sus particulare
 s reflexiones sobre la nueva normalidad con millas de seguidores en todo e
 l mundo.\n\nEvent link: https://teatroavanti.spaces.nexudus.com/en/events/
 view/1415112462/noche-de-humor---miguel-ángel-martín---sábado-15-abril-
 -21-00-h--público-adulto\n
DTEND;TZID=Europe/Paris:20230415T220000
DTSTAMP:20260421T103910Z
DTSTART;TZID=Europe/Paris:20230415T210000
LOCATION:Teatro Avanti
SEQUENCE:0
SUMMARY:NOCHE DE HUMOR - Miguel Ángel Martín - Sábado 15 Abril (21:00 h)
  Público Adulto
UID:71537b32-d07e-4218-bc08-b314d13a5766
END:VEVENT
END:VCALENDAR
