BEGIN:VCALENDAR
PRODID:Nexudus
VERSION:2.0
BEGIN:VTIMEZONE
TZID:Europe/Paris
X-LIC-LOCATION:Europe/Paris
BEGIN:STANDARD
DTSTART:20241027T030000
RRULE:FREQ=YEARLY;BYDAY=-1SU;BYMONTH=10
TZNAME:CET
TZOFFSETFROM:+0200
TZOFFSETTO:+0100
END:STANDARD
BEGIN:DAYLIGHT
DTSTART:20250330T020000
RRULE:FREQ=YEARLY;BYDAY=-1SU;BYMONTH=3
TZNAME:CEST
TZOFFSETFROM:+0100
TZOFFSETTO:+0200
END:DAYLIGHT
END:VTIMEZONE
BEGIN:VEVENT
DESCRIPTION:¡El nuevo show de la pandilla de Papanú llega con 15 nuevas c
 anciones y versiones de clásicos infantiles como la vaca lechera\, la yen
 ka y muchos éxitos más! con historias divertidas y locas aventuras prota
 gonizadas por los personajes favoritos de los peques. Una apuesta por el m
 ovimiento\, la diversión y utilizando la psicomotricidad en cada una de s
 us canciones\, hace así una renovada apuesta de entretenimiento y diversi
 ón.  En "SALTA" descubrirás y aprenderás juegos\, canciones\, color y u
 na forma muy peculiar de conocer valores educativos.\nPAPANÚ es... ¡Sobr
 e todo diversión!\n\nEvent link: https://teatroavanti.spaces.nexudus.com/
 en/events/view/1415106747/-aplazado--papanú---entin-music---domingo-29-en
 ero--12-00-h--público-familiar\n
DTEND;TZID=Europe/Paris:20230129T130000
DTSTAMP:20260421T121628Z
DTSTART;TZID=Europe/Paris:20230129T120000
LOCATION:Teatro Avanti
SEQUENCE:0
SUMMARY:[APLAZADO] PAPANÚ - Entin Music - Domingo 29 Enero (12:00 h) Públ
 ico Familiar
UID:0e5f65f6-0042-476f-a003-ebb50716ae98
END:VEVENT
END:VCALENDAR
