BEGIN:VCALENDAR
PRODID:Nexudus
VERSION:2.0
BEGIN:VTIMEZONE
TZID:Europe/Paris
X-LIC-LOCATION:Europe/Paris
BEGIN:STANDARD
DTSTART:20241027T030000
RRULE:FREQ=YEARLY;BYDAY=-1SU;BYMONTH=10
TZNAME:CET
TZOFFSETFROM:+0200
TZOFFSETTO:+0100
END:STANDARD
BEGIN:DAYLIGHT
DTSTART:20250330T020000
RRULE:FREQ=YEARLY;BYDAY=-1SU;BYMONTH=3
TZNAME:CEST
TZOFFSETFROM:+0100
TZOFFSETTO:+0200
END:DAYLIGHT
END:VTIMEZONE
BEGIN:VEVENT
DESCRIPTION:Cada  año nos acompañan magos virtuosos de gran renombre naci
 onal. Y este 2022 no iba a ser excepción. Os esperamos en Teatro Avanti e
 l sábado 5 de Noviembre a las 21:00 para disfrutar de la magia de El Mago
  Areson\, la Maga Lola Mento\, el Mago Alejandro Revuelta y el Mago Nano. 
 \nEvent link: https://teatroavanti.spaces.nexudus.com/en/events/view/14151
 04744/gran-gala-magica---sábado-5-noviembre--21-00-h--todos-los-públicos
 -\n
DTEND;TZID=Europe/Paris:20221105T220000
DTSTAMP:20260421T135614Z
DTSTART;TZID=Europe/Paris:20221105T210000
LOCATION:Teatro Avanti
SEQUENCE:0
SUMMARY:GRAN GALA MAGICA - Sábado 5 Noviembre (21:00 h) Todos los Público
 s.
UID:9489efc4-196b-43ca-b48f-cb5a473177d0
END:VEVENT
END:VCALENDAR
