BEGIN:VCALENDAR
PRODID:Nexudus
VERSION:2.0
BEGIN:VTIMEZONE
TZID:Europe/Paris
X-LIC-LOCATION:Europe/Paris
BEGIN:STANDARD
DTSTART:20241027T030000
RRULE:FREQ=YEARLY;BYDAY=-1SU;BYMONTH=10
TZNAME:CET
TZOFFSETFROM:+0200
TZOFFSETTO:+0100
END:STANDARD
BEGIN:DAYLIGHT
DTSTART:20250330T020000
RRULE:FREQ=YEARLY;BYDAY=-1SU;BYMONTH=3
TZNAME:CEST
TZOFFSETFROM:+0100
TZOFFSETTO:+0200
END:DAYLIGHT
END:VTIMEZONE
BEGIN:VEVENT
DESCRIPTION:Aletheia es un varieté contemporáneo que abarca diferentes le
 nguajes artísticos en “clave de mujer”. Autobiografías contadas con 
 estilo propio que transita de lo tradicional a lo moderno\, de lo cómico 
 a lo poético\, de la raíz a las puntas. Teatro\, danza\, flamenco\, mús
 ica en vivo y circo de la mano de tres mujeres con mucho poderío. Una exp
 losiva mezcla de formatos hilados desde la raíz y la esencia a la experim
 entación fresca y desenfadada. Historias propias enfocadas desde la memor
 ia más cercana: transmisión generacional\, heridas de la guerra\, aprend
 izaje y expresión desde una perspectiva de género\, maternidad y creaci
 ón\, la transformación de la cultura desde lo antiguo a lo más actual. 
 Folclore y modernidad de la mano.\nEvent link: https://teatroavanti.spaces
 .nexudus.com/en/events/view/1415084621/aletheia---las-poderío---jueves-13
 -octubre--21-30-h--todos-los-públicos\n
DTEND;TZID=Europe/Paris:20221013T223000
DTSTAMP:20260421T154038Z
DTSTART;TZID=Europe/Paris:20221013T213000
LOCATION:Teatro Avanti
SEQUENCE:0
SUMMARY:ALETHEIA - Las Poderío - Jueves 13 Octubre (21:30 h) Todos los pú
 blicos
UID:ee121246-f37b-4e3d-92f8-51273a39a0b8
END:VEVENT
END:VCALENDAR
