BEGIN:VCALENDAR
PRODID:Nexudus
VERSION:2.0
BEGIN:VTIMEZONE
TZID:Europe/Paris
X-LIC-LOCATION:Europe/Paris
BEGIN:STANDARD
DTSTART:20241027T030000
RRULE:FREQ=YEARLY;BYDAY=-1SU;BYMONTH=10
TZNAME:CET
TZOFFSETFROM:+0200
TZOFFSETTO:+0100
END:STANDARD
BEGIN:DAYLIGHT
DTSTART:20250330T020000
RRULE:FREQ=YEARLY;BYDAY=-1SU;BYMONTH=3
TZNAME:CEST
TZOFFSETFROM:+0100
TZOFFSETTO:+0200
END:DAYLIGHT
END:VTIMEZONE
BEGIN:VEVENT
DESCRIPTION:EmpodeRaRas es el segundo espectáculo de Las Raras. Tras el é
 xito de Estoy Rara vuelven sus protagonistas\, Remedios y Angustias con nu
 evas escenas y situaciones con las que el público podrá reír\, pensar y
  sentir\, y en el que veremos también nuevos personajes y escenas.Esta hi
 storia comienza con la separación de Angustias\, su proceso de cambio y s
 u viaje hacia el amor propio.Ángela Conde y Paloma Jiménez (Las Raras) v
 uelven a la carga con esta obra llena de crítica social y reflexiones sob
 re la culpa\, el miedo a la soledad y la dependencia emocional\, eso sí\,
  sin perder la frescura y el humor que las caracterizan.\nEvent link: http
 s://teatroavanti.spaces.nexudus.com/en/events/view/1415084509/empoderaras-
 --las-raras---sábado-29-octubre--21-00-h--público-adulto\n
DTEND;TZID=Europe/Paris:20221029T220000
DTSTAMP:20260421T135710Z
DTSTART;TZID=Europe/Paris:20221029T210000
LOCATION:Teatro Avanti
SEQUENCE:0
SUMMARY:EMPODERARAS - Las Raras - Sábado 29 Octubre (21:00 h) Público Adu
 lto
UID:4a560b5e-ed96-4068-8148-569bb51485a5
END:VEVENT
END:VCALENDAR
