BEGIN:VCALENDAR
PRODID:Nexudus
VERSION:2.0
BEGIN:VTIMEZONE
TZID:Europe/Paris
X-LIC-LOCATION:Europe/Paris
BEGIN:STANDARD
DTSTART:20241027T030000
RRULE:FREQ=YEARLY;BYDAY=-1SU;BYMONTH=10
TZNAME:CET
TZOFFSETFROM:+0200
TZOFFSETTO:+0100
END:STANDARD
BEGIN:DAYLIGHT
DTSTART:20250330T020000
RRULE:FREQ=YEARLY;BYDAY=-1SU;BYMONTH=3
TZNAME:CEST
TZOFFSETFROM:+0100
TZOFFSETTO:+0200
END:DAYLIGHT
END:VTIMEZONE
BEGIN:VEVENT
DESCRIPTION:Ellas son hermanas y tienen\, aunque no lo saben\, la misión m
 ás importante de sus vidas\; Son la\ngeneración que debe mantener viva l
 a llama que los une y que forja este hogar. Muchos son los\nhilarantes per
 sonajes que aparecen es esta historia y que nuestras protagonistas no se e
 speran\;\nHumanos y seres a los que solo la magia podría dar vida pondrá
 n a prueba el compromiso de\nnuestras protagonistas por conseguir su objet
 ivo.\nUn gran secreto\, canciones\, muchos habitantes “sorpresa” y hum
 or\, mucho humor darán vida a este\nalocado y divertido musical donde los
  valores familiares son su eje principal\; La familia del\nEncanto te cuen
 ta su historia para que quizá tú\, tú que nos estás viendo tengas la d
 ecisión final...\nEvent link: https://teatroavanti.spaces.nexudus.com/en/
 events/view/1415073205/la-familia-encanto---la-tomasa-teatro---domingo-25-
 septiembre--12-00-h-y-18-00-h--público-familiar\n
DTEND;TZID=Europe/Paris:20220925T180000
DTSTAMP:20260421T153838Z
DTSTART;TZID=Europe/Paris:20220925T120000
LOCATION:Teatro Avanti
SEQUENCE:0
SUMMARY:LA FAMILIA ENCANTO - La Tomasa Teatro - Domingo 25 Septiembre (12:0
 0 h y 18:00 h) Público Familiar
UID:1217b90f-894f-4e1e-90b7-d24a703b17f6
END:VEVENT
END:VCALENDAR
