BEGIN:VCALENDAR
PRODID:Nexudus
VERSION:2.0
BEGIN:VTIMEZONE
TZID:Europe/Paris
X-LIC-LOCATION:Europe/Paris
BEGIN:STANDARD
DTSTART:20241027T030000
RRULE:FREQ=YEARLY;BYDAY=-1SU;BYMONTH=10
TZNAME:CET
TZOFFSETFROM:+0200
TZOFFSETTO:+0100
END:STANDARD
BEGIN:DAYLIGHT
DTSTART:20250330T020000
RRULE:FREQ=YEARLY;BYDAY=-1SU;BYMONTH=3
TZNAME:CEST
TZOFFSETFROM:+0100
TZOFFSETTO:+0200
END:DAYLIGHT
END:VTIMEZONE
BEGIN:VEVENT
DESCRIPTION:La recaudación integra de taquilla será donada a "Córdoba Ac
 oge".\n\nEntre líneas es una obra perteneciente al teatro del absurdo per
 o que trata aspectos reales de la vida y la propia existencia a través de
  una guerra ficticia que acaba de concluir\, dejando únicamente un superv
 iviente por bando que ahora tienen el deber de desempatar. Su director\, e
 l también cordobés Chico Sánchez\, explica que la obra es "emocional"\,
  tratando de huir del teatro "frío y matemático"\, y que tiene el objeti
 vo de "incidir en el espectador con un alegato en contra de la guerra".\nE
 vent link: https://teatroavanti.spaces.nexudus.com/en/events/view/14150238
 40/entre-lineas---zerocontrés---viernes-18-marzo--21-00-h--todos-los-púb
 licos\n
DTEND;TZID=Europe/Paris:20220318T220000
DTSTAMP:20260421T171232Z
DTSTART;TZID=Europe/Paris:20220318T210000
LOCATION:Teatro Avanti
SEQUENCE:0
SUMMARY:ENTRE LINEAS - Zerocontrés - Viernes 18 Marzo (21:00 h) Todos los 
 públicos
UID:f369a738-a635-4ef6-996f-c03486e67f46
END:VEVENT
END:VCALENDAR
