BEGIN:VCALENDAR
PRODID:Nexudus
VERSION:2.0
BEGIN:VTIMEZONE
TZID:Europe/Paris
X-LIC-LOCATION:Europe/Paris
BEGIN:STANDARD
DTSTART:20241027T030000
RRULE:FREQ=YEARLY;BYDAY=-1SU;BYMONTH=10
TZNAME:CET
TZOFFSETFROM:+0200
TZOFFSETTO:+0100
END:STANDARD
BEGIN:DAYLIGHT
DTSTART:20250330T020000
RRULE:FREQ=YEARLY;BYDAY=-1SU;BYMONTH=3
TZNAME:CEST
TZOFFSETFROM:+0100
TZOFFSETTO:+0200
END:DAYLIGHT
END:VTIMEZONE
BEGIN:VEVENT
DESCRIPTION:La legendaria historia de un bosque amenazado\, un pueblo maldi
 to\, un dragón enfadado y un héroe inesperado. \nLa Carreta Teatro adapt
 a un relato de Antonio Amorós para sumergirse en el universo de los jugla
 res medievales.\nNos contarán la historia de un joven héroe que ha de sa
 lvar a su pueblo de la maldición de un formidable dragón\, el cual ha de
 satado su furiosa cólera al ver amenazada la supervivencia de su reino na
 tural. \nUna historia llena de valiosos valores humanos como el arrojo del
  protagonista frente a la adversidad\, la defensa de los espacios naturale
 s\, la puesta en valor de las cualidades de una heroína femenina\, y la a
 puesta por el uso de la razón en el lugar de la fuerza. \nEvent link: htt
 ps://teatroavanti.spaces.nexudus.com/en/events/view/1415021517/el-hechizo-
 del-dragón---la-carreta-teatro---domingo-3-abril--12-00-h--público-famil
 iar\n
DTEND;TZID=Europe/Paris:20220403T130000
DTSTAMP:20260421T171339Z
DTSTART;TZID=Europe/Paris:20220403T120000
LOCATION:Teatro Avanti
SEQUENCE:0
SUMMARY:EL HECHIZO DEL DRAGÓN - La Carreta Teatro - Domingo 3 Abril (12:00
  h) Público Familiar
UID:87035cd5-be23-41b8-bcfc-1a8d3c259019
END:VEVENT
END:VCALENDAR
