BEGIN:VCALENDAR
PRODID:Nexudus
VERSION:2.0
BEGIN:VTIMEZONE
TZID:Europe/Paris
X-LIC-LOCATION:Europe/Paris
BEGIN:STANDARD
DTSTART:20241027T030000
RRULE:FREQ=YEARLY;BYDAY=-1SU;BYMONTH=10
TZNAME:CET
TZOFFSETFROM:+0200
TZOFFSETTO:+0100
END:STANDARD
BEGIN:DAYLIGHT
DTSTART:20250330T020000
RRULE:FREQ=YEARLY;BYDAY=-1SU;BYMONTH=3
TZNAME:CEST
TZOFFSETFROM:+0100
TZOFFSETTO:+0200
END:DAYLIGHT
END:VTIMEZONE
BEGIN:VEVENT
DESCRIPTION:Una Costurerita valiente que acabó con siete de un sólo golpe
  y decidió que el mundo tenía que conocer su proeza\, así empezó a via
 jar. La gente decía que eran siete elefantes\, siete monstruos……. \n\
 n Al verla como poderosa guerrera\, le encargaron liberar la región de un
  gigante y un terrible unicornio que atemorizaba a sus habitantes. A cambi
 o\, recibiría una fortuna y otras cosas por descubrir. \n\nElla con su in
 teligencia\, superará los retos\, consiguiendo la mejor de las recompensa
 s\, aunque no fuera la que todos pensaban. \nEvent link: https://teatroava
 nti.spaces.nexudus.com/en/events/view/1415020959/la-costurerita-valiente--
 -xarop-teatre---aplazado-por-razones-ajenas-a-teatro-avanti\n
DTEND;TZID=Europe/Paris:20220402T200000
DTSTAMP:20260421T171232Z
DTSTART;TZID=Europe/Paris:20220402T190000
LOCATION:Teatro Avanti
SEQUENCE:0
SUMMARY:LA COSTURERITA VALIENTE - Xarop Teatre - APLAZADO POR RAZONES AJENA
 S A TEATRO AVANTI
UID:213291f4-1776-427d-a6e9-2832684b5a18
END:VEVENT
END:VCALENDAR
