BEGIN:VCALENDAR
PRODID:Nexudus
VERSION:2.0
BEGIN:VTIMEZONE
TZID:Europe/Paris
X-LIC-LOCATION:Europe/Paris
BEGIN:STANDARD
DTSTART:20241027T030000
RRULE:FREQ=YEARLY;BYDAY=-1SU;BYMONTH=10
TZNAME:CET
TZOFFSETFROM:+0200
TZOFFSETTO:+0100
END:STANDARD
BEGIN:DAYLIGHT
DTSTART:20250330T020000
RRULE:FREQ=YEARLY;BYDAY=-1SU;BYMONTH=3
TZNAME:CEST
TZOFFSETFROM:+0100
TZOFFSETTO:+0200
END:DAYLIGHT
END:VTIMEZONE
BEGIN:VEVENT
DESCRIPTION:El pato\, que nace diferente\, es rechazado por todos\, por los
  animales de la granja e incluso por sus propios hermanos\, solo su madre 
 lo defiende\, y no con mucha fe.\n\nEl rechazo se convierte en acoso y est
 e termina en maltrato y en fracaso.\n\nEl Pato decide finalmente abandonar
  la granja\, y de esta manera se ve expuesto a los peligros del campo abie
 rto como metáfora de la vida misma. Finalmente la naturaleza cumple con s
 u cometido y el Pato Feo se convierte en un hermoso cisne después de pasa
 r penalidades y peligros.\n\nRecupera la autoestima y el reconocimiento es
  inmediato.\nEvent link: https://teatroavanti.spaces.nexudus.com/en/events
 /view/1415019871/pato-feo---teatro-arbolé---domingo-3-abril--19-00-h--pú
 blico-familiar\n
DTEND;TZID=Europe/Paris:20220403T200000
DTSTAMP:20260421T171138Z
DTSTART;TZID=Europe/Paris:20220403T190000
LOCATION:Teatro Avanti
SEQUENCE:0
SUMMARY:PATO FEO - Teatro Arbolé - Domingo 3 Abril (19:00 h) Público Fami
 liar
UID:a312a885-83be-435c-ac2a-3e5c0a79223d
END:VEVENT
END:VCALENDAR
