BEGIN:VCALENDAR
PRODID:Nexudus
VERSION:2.0
BEGIN:VTIMEZONE
TZID:Europe/Paris
X-LIC-LOCATION:Europe/Paris
BEGIN:STANDARD
DTSTART:20241027T030000
RRULE:FREQ=YEARLY;BYDAY=-1SU;BYMONTH=10
TZNAME:CET
TZOFFSETFROM:+0200
TZOFFSETTO:+0100
END:STANDARD
BEGIN:DAYLIGHT
DTSTART:20250330T020000
RRULE:FREQ=YEARLY;BYDAY=-1SU;BYMONTH=3
TZNAME:CEST
TZOFFSETFROM:+0100
TZOFFSETTO:+0200
END:DAYLIGHT
END:VTIMEZONE
BEGIN:VEVENT
DESCRIPTION:\nEvent link: https://teatroavanti.spaces.nexudus.com/en/events
 /view/1415007923/xv-muestra-de-teatro-aficionado-qurtuba-teatro-2022---del
 -11-de-febrero-al-26-de-marzo---entrada-venta-exclusiva-en-taquilla--4-\n
DTEND;TZID=Europe/Paris:20220326T090000
DTSTAMP:20260421T185241Z
DTSTART;TZID=Europe/Paris:20220211T080000
LOCATION:Teatro Avanti
SEQUENCE:0
SUMMARY:XV MUESTRA DE TEATRO AFICIONADO QURTUBA TEATRO 2022 - Del 11 de Feb
 rero al 26 de Marzo - Entrada venta exclusiva en Taquilla. 4€
UID:c9280057-fc1b-4b28-9157-8ab9bd081ef7
END:VEVENT
END:VCALENDAR
