BEGIN:VCALENDAR
PRODID:Nexudus
VERSION:2.0
BEGIN:VTIMEZONE
TZID:Europe/Paris
X-LIC-LOCATION:Europe/Paris
BEGIN:STANDARD
DTSTART:20241027T030000
RRULE:FREQ=YEARLY;BYDAY=-1SU;BYMONTH=10
TZNAME:CET
TZOFFSETFROM:+0200
TZOFFSETTO:+0100
END:STANDARD
BEGIN:DAYLIGHT
DTSTART:20250330T020000
RRULE:FREQ=YEARLY;BYDAY=-1SU;BYMONTH=3
TZNAME:CEST
TZOFFSETFROM:+0100
TZOFFSETTO:+0200
END:DAYLIGHT
END:VTIMEZONE
BEGIN:VEVENT
DESCRIPTION:“Rebeldes con causa” es una pieza unipersonal infantil y fa
 miliar donde la protagonista hace un viaje por el tiempo y el espacio para
  contar la historia de cinco mujeres: J.K. Rowling (autora de Harry Potter
 )\, Alicia Alonso (bailarina cubana)\, Marie Curie (científica francesa) 
 Grace O’Malley (pirata)\, Joan Jett (rockera). Mujeres que superaron bar
 reras\, rebelándose contra los prejuicios que existían en las épocas en
  que vivieron. El espectáculo combina trabajo escénico y audiovisual don
 de la protagonista\, transitando los cambios de épocas\, juega con el pú
 blico\, descubriendo juntos la magia de estas grandes mujeres.\nEvent link
 : https://teatroavanti.spaces.nexudus.com/en/events/view/1415000109/rebeld
 es-con-causa---efimera-escena---domingo-6-marzo--12-00-h--público-familia
 r\n
DTEND;TZID=Europe/Paris:20220306T130000
DTSTAMP:20260421T171247Z
DTSTART;TZID=Europe/Paris:20220306T120000
LOCATION:Teatro Avanti
SEQUENCE:0
SUMMARY:REBELDES CON CAUSA - Efimera Escena - Domingo 6 Marzo (12:00 h) Pú
 blico Familiar
UID:71188619-1887-45e0-b800-9bce0a3c9e55
END:VEVENT
END:VCALENDAR
