BEGIN:VCALENDAR
PRODID:Nexudus
VERSION:2.0
BEGIN:VTIMEZONE
TZID:Europe/Paris
X-LIC-LOCATION:Europe/Paris
BEGIN:STANDARD
DTSTART:20241027T030000
RRULE:FREQ=YEARLY;BYDAY=-1SU;BYMONTH=10
TZNAME:CET
TZOFFSETFROM:+0200
TZOFFSETTO:+0100
END:STANDARD
BEGIN:DAYLIGHT
DTSTART:20250330T020000
RRULE:FREQ=YEARLY;BYDAY=-1SU;BYMONTH=3
TZNAME:CEST
TZOFFSETFROM:+0100
TZOFFSETTO:+0200
END:DAYLIGHT
END:VTIMEZONE
BEGIN:VEVENT
DESCRIPTION:Al llegar a casa\, Roger y Julia descubren que alguien ha entra
 do en su piso. No se han llevado absolutamente nada pero\, sin embargo\, s
 e han acostado en su cama de matrimonio\, ha movido de lugar los juguetes 
 de su hija de seis años y han dejado la televisión en funcionamiento con
  un DVD de una ecografía de la niña. La pareja vive la situación con in
 quietud y preocupación\, y se preguntan quién y por qué debe de haberlo
  hecho. Después del incidente\, Roger y Julia irán descubriendo aspectos
  que desconocían de su pareja.\nEvent link: https://teatroavanti.spaces.n
 exudus.com/en/events/view/1414995180/umbrio---azarte---aplazado-al-18-de-f
 ebrero-por-razones-ajenas-a-teatro-avanti--circunstancias-sanitarias-actua
 les-\n
DTEND;TZID=Europe/Paris:20220129T220000
DTSTAMP:20260421T185235Z
DTSTART;TZID=Europe/Paris:20220129T210000
LOCATION:Teatro Avanti
SEQUENCE:0
SUMMARY:UMBRIO - Azarte - APLAZADO AL 18 de FEBRERO por razones ajenas a Te
 atro Avanti (Circunstancias sanitarias actuales)
UID:0808c6cf-f394-41c1-9586-1d1dc2cab5d2
END:VEVENT
END:VCALENDAR
