BEGIN:VCALENDAR
PRODID:Nexudus
VERSION:2.0
BEGIN:VTIMEZONE
TZID:Europe/Paris
X-LIC-LOCATION:Europe/Paris
BEGIN:STANDARD
DTSTART:20241027T030000
RRULE:FREQ=YEARLY;BYDAY=-1SU;BYMONTH=10
TZNAME:CET
TZOFFSETFROM:+0200
TZOFFSETTO:+0100
END:STANDARD
BEGIN:DAYLIGHT
DTSTART:20250330T020000
RRULE:FREQ=YEARLY;BYDAY=-1SU;BYMONTH=3
TZNAME:CEST
TZOFFSETFROM:+0100
TZOFFSETTO:+0200
END:DAYLIGHT
END:VTIMEZONE
BEGIN:VEVENT
DESCRIPTION:Hasta que la muerte nos separe\, gira nacional del nuevo show d
 e Paco y Maite en el Teatro Apolo de Barcelona. El matrimonio cordobés qu
 e ha sabido llegar al gran público con su carisma y sencillez\, con más 
 de un millón y medio de seguidores en redes sociales y millones de reprod
 ucciones de sus vídeos . Un monólogo entre marido y mujer con carcajadas
  y risas 100% garantizadas.\nEvent link: https://teatroavanti.spaces.nexud
 us.com/en/events/view/1414995157/hasta-que-la-muerte-nos-separe---paco-y-m
 aite---domingo-6-marzo--20-00-h--público-adulto\n
DTEND;TZID=Europe/Paris:20220306T210000
DTSTAMP:20260421T171339Z
DTSTART;TZID=Europe/Paris:20220306T200000
LOCATION:Teatro Avanti
SEQUENCE:0
SUMMARY:HASTA QUE LA MUERTE NOS SEPARE - Paco y Maite - Domingo 6 Marzo (20
 :00 h) Público Adulto
UID:e5926a20-7966-43f0-9d68-67ca54aee234
END:VEVENT
END:VCALENDAR
