BEGIN:VCALENDAR
PRODID:Nexudus
VERSION:2.0
BEGIN:VTIMEZONE
TZID:Europe/Paris
X-LIC-LOCATION:Europe/Paris
BEGIN:STANDARD
DTSTART:20241027T030000
RRULE:FREQ=YEARLY;BYDAY=-1SU;BYMONTH=10
TZNAME:CET
TZOFFSETFROM:+0200
TZOFFSETTO:+0100
END:STANDARD
BEGIN:DAYLIGHT
DTSTART:20250330T020000
RRULE:FREQ=YEARLY;BYDAY=-1SU;BYMONTH=3
TZNAME:CEST
TZOFFSETFROM:+0100
TZOFFSETTO:+0200
END:DAYLIGHT
END:VTIMEZONE
BEGIN:VEVENT
DESCRIPTION:¿Has dudado de lo que estabas haciendo sobre el escenario?\n\n
 La ciencia ha demostrado que el 95% del tiempo vamos en automático.\n\nNO
  SABEMOS LO QUE ESTAMOS PENSANDO\n\nDel mismo modo\, el 95% de los pensami
 entos que un espectador tiene sobre lo que tú haces con tu personaje\, ta
 mbién va en automático.\n\nY si no sabes cómo llegar ahí\, te perderá
 s entre millones de técnicas y posibilidades.\nEvent link: https://teatro
 avanti.spaces.nexudus.com/en/events/view/1414991128/masterclass-3-claves-p
 ara-ser-profesional-en-escena---javier-oliva-muñoz---18-diciembre--11-00-
 h-\n
DTEND;TZID=Europe/Paris:20211218T120000
DTSTAMP:20260421T202555Z
DTSTART;TZID=Europe/Paris:20211218T110000
LOCATION:Teatro Avanti
SEQUENCE:0
SUMMARY:Masterclass 3 claves para ser profesional en escena - Javier Oliva 
 Muñoz - 18 diciembre (11:00 h)
UID:b294c33c-da29-41dc-8666-254e83ad0f55
END:VEVENT
END:VCALENDAR
