BEGIN:VCALENDAR
PRODID:Nexudus
VERSION:2.0
BEGIN:VTIMEZONE
TZID:Europe/Paris
X-LIC-LOCATION:Europe/Paris
BEGIN:STANDARD
DTSTART:20241027T030000
RRULE:FREQ=YEARLY;BYDAY=-1SU;BYMONTH=10
TZNAME:CET
TZOFFSETFROM:+0200
TZOFFSETTO:+0100
END:STANDARD
BEGIN:DAYLIGHT
DTSTART:20250330T020000
RRULE:FREQ=YEARLY;BYDAY=-1SU;BYMONTH=3
TZNAME:CEST
TZOFFSETFROM:+0100
TZOFFSETTO:+0200
END:DAYLIGHT
END:VTIMEZONE
BEGIN:VEVENT
DESCRIPTION:Alrededor de la siesta\, descanso reparador o filosofía de vid
 a a media tarde\, se alza un importante dilema: ¿cama o sofá? Un espect
 áculo que aúna danza\, teatro y circo\, en el que el humor y la teatrali
 dad marcan lo coreográfico. Una madre\, una abuela y un nieto exprimen es
 tereotipos en este salón andaluz de la década de los sesenta sin medios
  tecnológicos\, tan solo la cercanía entre ellos y las situaciones cotid
 ianas que bajo el marco de una casa no resultan nada costumbristas. Es una
  historia que transmite valores sobre la importancia de los cuidados\, las
  relaciones familiares\, de cómo nuestros padres y abuelos vivían y se 
 relacionaban.\nEvent link: https://teatroavanti.spaces.nexudus.com/en/even
 ts/view/1414990108/anda-que-no-ni-ná----la-petite-producciones---domingo-
 20-febrero--12-00-h--público-familiar\n
DTEND;TZID=Europe/Paris:20220220T130000
DTSTAMP:20260421T185057Z
DTSTART;TZID=Europe/Paris:20220220T120000
LOCATION:Teatro Avanti
SEQUENCE:0
SUMMARY:ANDA QUE NO NI NÁ! - La Petite Producciones - Domingo 20 Febrero (
 12:00 h) Público Familiar
UID:f4f8b631-a680-4eea-9cd7-9f9e7520945e
END:VEVENT
END:VCALENDAR
