BEGIN:VCALENDAR
PRODID:Nexudus
VERSION:2.0
BEGIN:VTIMEZONE
TZID:Europe/Paris
X-LIC-LOCATION:Europe/Paris
BEGIN:STANDARD
DTSTART:20241027T030000
RRULE:FREQ=YEARLY;BYDAY=-1SU;BYMONTH=10
TZNAME:CET
TZOFFSETFROM:+0200
TZOFFSETTO:+0100
END:STANDARD
BEGIN:DAYLIGHT
DTSTART:20250330T020000
RRULE:FREQ=YEARLY;BYDAY=-1SU;BYMONTH=3
TZNAME:CEST
TZOFFSETFROM:+0100
TZOFFSETTO:+0200
END:DAYLIGHT
END:VTIMEZONE
BEGIN:VEVENT
DESCRIPTION:A todos nos gusta el teatro\, aunque quedarse encerrado en una 
 sala durante la noche\, puede conllevar sorpresas.\n\nEn tales circunstanc
 ias\, el espacio se transforma: el ajetreo del público y las compañías 
 quedan sustituidos por la oscuridad absoluta\, las puertas cerradas\, los 
 ruidos misteriosos y el crujir de la madera del viejo escenario.\n\nEl ya 
 de por sí poco edificante panorama se complica si\, de repente\, te das c
 uenta de que no estás solo. Y del susto inicial pasas a la incomodidad\, 
 y de ahí\, a la constatación de que te ves obligado a mantener una convi
 vencia forzosa —durante las horas que restan hasta el amanecer—\, con 
 una completa desconocida.\n\nMientras os vais conociendo y buscando soluci
 ones a una improbable salida\, la madrugada avanza teñida de sorpresas\, 
 misterios\, trampas e improvisados homenajes a la historia del teatro.\n\n
 Es entonces cuando piensas con inquietud\, tras cada acontecimiento: ¿Y a
 hora qué?\n\nEvent link: https://teatroavanti.spaces.nexudus.com/en/event
 s/view/1414989178/-y-ahora-qué----sala-cero-producciones---sábado-22-ene
 ro--21-00-h--público-adulto\n
DTEND;TZID=Europe/Paris:20220122T220000
DTSTAMP:20260421T185102Z
DTSTART;TZID=Europe/Paris:20220122T210000
LOCATION:Teatro Avanti
SEQUENCE:0
SUMMARY:¿Y AHORA QUÉ? - Sala Cero Producciones - Sábado 22 Enero (21:00 
 h) Público Adulto
UID:2c6df15e-9eb9-466b-9fa4-d4f9af4a2f89
END:VEVENT
END:VCALENDAR
