BEGIN:VCALENDAR
PRODID:Nexudus
VERSION:2.0
BEGIN:VTIMEZONE
TZID:Europe/Paris
X-LIC-LOCATION:Europe/Paris
BEGIN:STANDARD
DTSTART:20241027T030000
RRULE:FREQ=YEARLY;BYDAY=-1SU;BYMONTH=10
TZNAME:CET
TZOFFSETFROM:+0200
TZOFFSETTO:+0100
END:STANDARD
BEGIN:DAYLIGHT
DTSTART:20250330T020000
RRULE:FREQ=YEARLY;BYDAY=-1SU;BYMONTH=3
TZNAME:CEST
TZOFFSETFROM:+0100
TZOFFSETTO:+0200
END:DAYLIGHT
END:VTIMEZONE
BEGIN:VEVENT
DESCRIPTION:"Magictwins Live” es un espectáculo de magia y humor familia
 r dirigido para todos los públicos. Incorpora efectos de magia de calidad
  visual y novedosos en los que los magos harán participar a los propios e
 spectadores. A diferencia de otros espectáculos de magia este show incorp
 ora una perspectiva más teatral\, ya que los artistas interactúan entre 
 ellos en diferentes momentos del espectáculo.\n\nA lo largo del espectác
 ulo cada mago tendrá su momento en solitario\, deleitando al público con
  sus números mágicos personales y particulares\, podremos ver como un di
 bujo cobra vida\, incluso como unas cartas gigantes viajan mágicamente.\n
 \nDurante el espectáculo ocurren una gran variedad de sucesos que son imp
 revisibles para los artistas\, palabras pensadas por los espectadores\, ca
 rtas pensadas… Y los magos irán adivinando dichos datos a lo largo de l
 a función\, haciendo así que el público viva diferentes emociones.\n\n\
 nEvent link: https://teatroavanti.spaces.nexudus.com/en/events/view/141498
 9087/magictwins-live---domingo-16-enero--12-00-h--público-familiar\n
DTEND;TZID=Europe/Paris:20220116T130000
DTSTAMP:20260421T202544Z
DTSTART;TZID=Europe/Paris:20220116T120000
LOCATION:Teatro Avanti
SEQUENCE:0
SUMMARY:MAGICTWINS LIVE - Domingo 16 Enero (12:00 h) Público Familiar
UID:2a653fba-a9f5-498a-8c17-6085829d6463
END:VEVENT
END:VCALENDAR
