BEGIN:VCALENDAR
PRODID:Nexudus
VERSION:2.0
BEGIN:VTIMEZONE
TZID:Europe/Paris
X-LIC-LOCATION:Europe/Paris
BEGIN:STANDARD
DTSTART:20241027T030000
RRULE:FREQ=YEARLY;BYDAY=-1SU;BYMONTH=10
TZNAME:CET
TZOFFSETFROM:+0200
TZOFFSETTO:+0100
END:STANDARD
BEGIN:DAYLIGHT
DTSTART:20250330T020000
RRULE:FREQ=YEARLY;BYDAY=-1SU;BYMONTH=3
TZNAME:CEST
TZOFFSETFROM:+0100
TZOFFSETTO:+0200
END:DAYLIGHT
END:VTIMEZONE
BEGIN:VEVENT
DESCRIPTION:Lapicera y Tijereta fabrican marionetas de sombras en su taller
  donde hay\nun teatrillo de madera por el que entran y salen para dar vida
  a la luz. Un\ndía son sorprendidas por la llamada de la diosa griega Eur
 ínome y aquí\nempiezan una serie de historias de fantasía\, aventura y 
 amor sobre la\nmitología griega.\nEvent link: https://teatroavanti.spaces
 .nexudus.com/en/events/view/1414983943/celeste---domingo-19-diciembre--12-
 00-y-18-00-h--público-familiar-\n
DTEND;TZID=Europe/Paris:20211219T180000
DTSTAMP:20260421T202544Z
DTSTART;TZID=Europe/Paris:20211219T120000
LOCATION:Teatro Avanti
SEQUENCE:0
SUMMARY:Celeste - Domingo 19 Diciembre (12:00 y 18:00 h) Público Familiar.
UID:355679ac-04b0-4c0d-94c7-123211c1747e
END:VEVENT
END:VCALENDAR
