BEGIN:VCALENDAR
PRODID:Nexudus
VERSION:2.0
BEGIN:VTIMEZONE
TZID:Europe/Paris
X-LIC-LOCATION:Europe/Paris
BEGIN:STANDARD
DTSTART:20241027T030000
RRULE:FREQ=YEARLY;BYDAY=-1SU;BYMONTH=10
TZNAME:CET
TZOFFSETFROM:+0200
TZOFFSETTO:+0100
END:STANDARD
BEGIN:DAYLIGHT
DTSTART:20250330T020000
RRULE:FREQ=YEARLY;BYDAY=-1SU;BYMONTH=3
TZNAME:CEST
TZOFFSETFROM:+0100
TZOFFSETTO:+0200
END:DAYLIGHT
END:VTIMEZONE
BEGIN:VEVENT
DESCRIPTION:Bienvenidas y bienvenidos a un mundo hiperconectado y ultravuln
 erable.\nLos dispositivos electrónicos han invadido casi todas las parcel
 as de\nnuestras vidas\, son nuestra fuente vital de energía. Nos encontra
 mos ante\nun hype\, un fenómeno que esconde derivadas inquietantes. Siri\
 , ¿tú qué\npiensas?\nEvent link: https://teatroavanti.spaces.nexudus.co
 m/en/events/view/1414983942/siri---tu-que-piensas---sábado-18--21-00-h--p
 úblico-adulto\n
DTEND;TZID=Europe/Paris:20211218T220000
DTSTAMP:20260421T202551Z
DTSTART;TZID=Europe/Paris:20211218T210000
LOCATION:Teatro Avanti
SEQUENCE:0
SUMMARY:SIRI\, ¿TU QUE PIENSAS? -Sábado 18 (21:00 h) Público Adulto
UID:6772b47b-38d2-4055-b900-9fba0e271bb7
END:VEVENT
END:VCALENDAR
