BEGIN:VCALENDAR
PRODID:Nexudus
VERSION:2.0
BEGIN:VTIMEZONE
TZID:Europe/Paris
X-LIC-LOCATION:Europe/Paris
BEGIN:STANDARD
DTSTART:20241027T030000
RRULE:FREQ=YEARLY;BYDAY=-1SU;BYMONTH=10
TZNAME:CET
TZOFFSETFROM:+0200
TZOFFSETTO:+0100
END:STANDARD
BEGIN:DAYLIGHT
DTSTART:20250330T020000
RRULE:FREQ=YEARLY;BYDAY=-1SU;BYMONTH=3
TZNAME:CEST
TZOFFSETFROM:+0100
TZOFFSETTO:+0200
END:DAYLIGHT
END:VTIMEZONE
BEGIN:VEVENT
DESCRIPTION:Intervienen:\nMago Voty:  Nacido en Burgos\, echado a perder en
  Granada. Conocido en la facultad de ciencias del trabajo como el Carlos S
 ainz\, porque no termina la carrera. Este joven artista lleva ya realizada
 s\, más de 2.000 actuaciones a sus anchas espaldas.\nFinalista de Tu si q
 ue vales\, Premio nacional de Comedia\, entre otros de sus logros como mag
 o-comico.\n\nMago Alexku: El doble premio Nacional de Magia\, nos presenta
  lo mejor de su repertorio.Clown\, humor\,malabares y por supuesto mucha m
 agia.Una combinación de sus mejores juegos\, tanto visuales como particip
 ativos\, musicales y hablados\, que aderezados con su toque histriónico y
  absurdo transmitiran al espectador sensaciones de asombro y alegría.\n\n
 Mago Naife:  Más de 30 años de experiencia en las distintas especialidad
 es de la magia. Premio Nacional de Magia\n\nMago Alúa y Rocío:  Magia\, 
 humor\, fantasía\, música y la participación del público\, son los ing
 redientes necesarios para que esta gala se convierta un espectáculo que t
 e invada de ilusión. Mago Alúa Premio Nacional de Magia nos ofrece lo me
 jor de casi 20 años dedicado al arte del ilusionismo.\nEvent link: https:
 //teatroavanti.spaces.nexudus.com/en/events/view/1414973943/gran-gala-magi
 ca---sábado-6-noviembre-21-00-h--todos-los-públicos-\n
DTEND;TZID=Europe/Paris:20211106T221500
DTSTAMP:20260421T221254Z
DTSTART;TZID=Europe/Paris:20211106T210000
LOCATION:Teatro Avanti
SEQUENCE:0
SUMMARY:GRAN GALA MAGICA - Sábado 6 Noviembre 21:00 h. Todos los Públicos
 .
UID:42894bcf-4078-4bf2-acb4-0654ecbe3b8e
END:VEVENT
END:VCALENDAR
