BEGIN:VCALENDAR
PRODID:Nexudus
VERSION:2.0
BEGIN:VTIMEZONE
TZID:Europe/Paris
X-LIC-LOCATION:Europe/Paris
BEGIN:STANDARD
DTSTART:20241027T030000
RRULE:FREQ=YEARLY;BYDAY=-1SU;BYMONTH=10
TZNAME:CET
TZOFFSETFROM:+0200
TZOFFSETTO:+0100
END:STANDARD
BEGIN:DAYLIGHT
DTSTART:20250330T020000
RRULE:FREQ=YEARLY;BYDAY=-1SU;BYMONTH=3
TZNAME:CEST
TZOFFSETFROM:+0100
TZOFFSETTO:+0200
END:DAYLIGHT
END:VTIMEZONE
BEGIN:VEVENT
DESCRIPTION:Alexku (Mago Sevillano)\, Flain qeu te Flain (Mago Cordobés) \
 ,  ¿Un duelo?\, ¿Mano a mano?\, ¿Dos contrincantes?\, ¿Una batalla de 
 Magos? ...                    No lo sabemos\, pero estamos seguros de pasa
 r una "Velada Magica"\,  llena tambien de humor y la directa participacion
  del respetable.\nNo te lo pierdas\,. Por primera vez en el Ring (Las tabl
 as) de TEATRO AVANTI.\nEvent link: https://teatroavanti.spaces.nexudus.com
 /en/events/view/1414973842/alexku-vs-flain---viernes-5-noviembre---21-00-h
 --todos-los-públicos-\n
DTEND;TZID=Europe/Paris:20211105T221500
DTSTAMP:20260421T221320Z
DTSTART;TZID=Europe/Paris:20211105T210000
LOCATION:Teatro Avanti
SEQUENCE:0
SUMMARY:ALEXKU VS FLAIN - Viernes 5 Noviembre  (21:00 h) Todos los Público
 s.
UID:43ed987a-cc83-446c-a104-736b8f16f0b6
END:VEVENT
END:VCALENDAR
