BEGIN:VCALENDAR
PRODID:Nexudus
VERSION:2.0
BEGIN:VTIMEZONE
TZID:Europe/Paris
X-LIC-LOCATION:Europe/Paris
BEGIN:STANDARD
DTSTART:20241027T030000
RRULE:FREQ=YEARLY;BYDAY=-1SU;BYMONTH=10
TZNAME:CET
TZOFFSETFROM:+0200
TZOFFSETTO:+0100
END:STANDARD
BEGIN:DAYLIGHT
DTSTART:20250330T020000
RRULE:FREQ=YEARLY;BYDAY=-1SU;BYMONTH=3
TZNAME:CEST
TZOFFSETFROM:+0100
TZOFFSETTO:+0200
END:DAYLIGHT
END:VTIMEZONE
BEGIN:VEVENT
DESCRIPTION:Las Endemoñadas es un espectáculo de Teatro Cabaret en el que
  dos mujeres\,\nMari Moñi y Mari Coñi\, a través del humor y desde la p
 erspectiva\nde género\, nos cuentan cómo han decidido apropiarse de sus 
 cuerpos y\nsus voces\, para visibilizar y hacer frente a las injusticias\,
  desigualdades\ny tabúes de nuestra sociedad. Crearán sus propios mandam
 ientos para\nexpulsar definitivamente la culpa\, y vivir un endemoñamient
 o saludable.\nEvent link: https://teatroavanti.spaces.nexudus.com/en/event
 s/view/1414973337/las-endemoñadas----sábado-11-diciembre--21-00-h-\n
DTEND;TZID=Europe/Paris:20211211T223000
DTSTAMP:20260421T202442Z
DTSTART;TZID=Europe/Paris:20211210T210000
LOCATION:Teatro Avanti
SEQUENCE:0
SUMMARY:Las endemoñadas -  Sábado 11 Diciembre (21:00 h)
UID:2cb89b13-2a3f-4a53-a6a0-c05dbfd0b470
END:VEVENT
END:VCALENDAR
