BEGIN:VCALENDAR
PRODID:Nexudus
VERSION:2.0
BEGIN:VTIMEZONE
TZID:Europe/Paris
X-LIC-LOCATION:Europe/Paris
BEGIN:STANDARD
DTSTART:20241027T030000
RRULE:FREQ=YEARLY;BYDAY=-1SU;BYMONTH=10
TZNAME:CET
TZOFFSETFROM:+0200
TZOFFSETTO:+0100
END:STANDARD
BEGIN:DAYLIGHT
DTSTART:20250330T020000
RRULE:FREQ=YEARLY;BYDAY=-1SU;BYMONTH=3
TZNAME:CEST
TZOFFSETFROM:+0100
TZOFFSETTO:+0200
END:DAYLIGHT
END:VTIMEZONE
BEGIN:VEVENT
DESCRIPTION:Estoy Rara es un espectáculo de sketches cómicos en clave de 
 ironía donde tratamos de concienciar a través del humor sobre temas tan 
 importantes como el empoderamiento\, la igualdad y sobre todo la incapacid
 ad del ser humano para ser feliz. \n“Preferimos mantenernos en la zona d
 e confort\, aunque estemos mal\, antes que cambiar”. \nLas Raras interpr
 etan y parodian el espejo de una sociedad enferma que prefiere quejarse a 
 empoderarse… Nos encontramos ante una comedia inteligente y divertida co
 n un texto provocador\, irónico y un toque de humor negro. \nEvent link: 
 https://teatroavanti.spaces.nexudus.com/en/events/view/1414973331/estoy-ra
 ra---cía---las-raras---sábado-20-noviembre--21-00-h-\n
DTEND;TZID=Europe/Paris:20211120T223000
DTSTAMP:20260421T202447Z
DTSTART;TZID=Europe/Paris:20211120T210000
LOCATION:Teatro Avanti
SEQUENCE:0
SUMMARY:ESTOY RARA - Cía.: Las Raras - Sábado 20 Noviembre (21:00 h)
UID:0935f15b-6555-41f9-b450-685528ce616e
END:VEVENT
END:VCALENDAR
