BEGIN:VCALENDAR
PRODID:Nexudus
VERSION:2.0
BEGIN:VTIMEZONE
TZID:Europe/Paris
X-LIC-LOCATION:Europe/Paris
BEGIN:STANDARD
DTSTART:20241027T030000
RRULE:FREQ=YEARLY;BYDAY=-1SU;BYMONTH=10
TZNAME:CET
TZOFFSETFROM:+0200
TZOFFSETTO:+0100
END:STANDARD
BEGIN:DAYLIGHT
DTSTART:20250330T020000
RRULE:FREQ=YEARLY;BYDAY=-1SU;BYMONTH=3
TZNAME:CEST
TZOFFSETFROM:+0100
TZOFFSETTO:+0200
END:DAYLIGHT
END:VTIMEZONE
BEGIN:VEVENT
DESCRIPTION:En este taller\, Borja Fernández enseñará cómo nuestras bio
 grafías personales y familiares son susceptibles de convertirse en materi
 al para la escena. \nSe trabajará con personal traído por los participan
 tes (objetos\, cartas\, imágenes\, vídeos\, títulos nobiliarios… cual
 quier documento o fetiche con el que se tenga una relación estrecha) poni
 endo a funcionar la memoria que contiene ese material y construyendo un br
 eve relato\, en el que cada participante será autor\, escritor y director
  del mismo. \nLa intención es acercarse a ese material de manera lúdica\
 , observando la historia posible dentro de ese documento e indagando en la
 s posibilidades de llevarla a escena.\n\nEvent link: https://teatroavanti.
 spaces.nexudus.com/en/events/view/1414971636/curso--teatro-documental-y-me
 moria-familiar---sábado-16-octubre--10-30-a-13-30-horas-\n
DTEND;TZID=Europe/Paris:20211016T133000
DTSTAMP:20260421T221232Z
DTSTART;TZID=Europe/Paris:20211016T103000
LOCATION:Teatro Avanti
SEQUENCE:0
SUMMARY:CURSO  TEATRO DOCUMENTAL Y MEMORIA FAMILIAR - Sábado 16 Octubre (1
 0:30 a 13:30 horas)
UID:62f4d598-1941-45b2-8f8e-62f265b02f9d
END:VEVENT
END:VCALENDAR
