BEGIN:VCALENDAR
PRODID:Nexudus
VERSION:2.0
BEGIN:VTIMEZONE
TZID:Europe/Paris
X-LIC-LOCATION:Europe/Paris
BEGIN:STANDARD
DTSTART:20241027T030000
RRULE:FREQ=YEARLY;BYDAY=-1SU;BYMONTH=10
TZNAME:CET
TZOFFSETFROM:+0200
TZOFFSETTO:+0100
END:STANDARD
BEGIN:DAYLIGHT
DTSTART:20250330T020000
RRULE:FREQ=YEARLY;BYDAY=-1SU;BYMONTH=3
TZNAME:CEST
TZOFFSETFROM:+0100
TZOFFSETTO:+0200
END:DAYLIGHT
END:VTIMEZONE
BEGIN:VEVENT
DESCRIPTION:SALVADOR se centra en la figura de\nlos abuelos\, concretamente
  en la\nmisteriosa figura de Benito Fernandes\nMeirinho\, abuelo de Borja 
 Fernández\, y\nen su impacto en la historia reciente\,\nasí conmo en la 
 configuración de las\ncomunidades\, familias e individuos\ncontemporáneo
 s.\nEvent link: https://teatroavanti.spaces.nexudus.com/en/events/view/141
 4958794/salvador---viernes-15-y--sábado-16-de-octubre---21-00-h--público
 -adulto-\n
DTEND;TZID=Europe/Paris:20211016T220000
DTSTAMP:20260421T221254Z
DTSTART;TZID=Europe/Paris:20211015T210000
LOCATION:Teatro Avanti
SEQUENCE:0
SUMMARY:SALVADOR - Viernes 15 Y  Sábado 16 de Octubre  (21:00 h) Público 
 Adulto. 
UID:d5547696-19f5-444d-ab99-f78a14615374
END:VEVENT
END:VCALENDAR
