BEGIN:VCALENDAR
PRODID:Nexudus
VERSION:2.0
BEGIN:VTIMEZONE
TZID:Europe/Paris
X-LIC-LOCATION:Europe/Paris
BEGIN:STANDARD
DTSTART:20241027T030000
RRULE:FREQ=YEARLY;BYDAY=-1SU;BYMONTH=10
TZNAME:CET
TZOFFSETFROM:+0200
TZOFFSETTO:+0100
END:STANDARD
BEGIN:DAYLIGHT
DTSTART:20250330T020000
RRULE:FREQ=YEARLY;BYDAY=-1SU;BYMONTH=3
TZNAME:CEST
TZOFFSETFROM:+0100
TZOFFSETTO:+0200
END:DAYLIGHT
END:VTIMEZONE
BEGIN:VEVENT
DESCRIPTION:\nEvent link: https://teatroavanti.spaces.nexudus.com/en/events
 /view/1414937689/viana-a-escena--desde-el-viernes-2-de-julio-al-viernes-23
 -junio--22-00-horas---todos-los-públicos-\n
DTEND;TZID=Europe/Paris:20210623T230000
DTSTAMP:20260421T234247Z
DTSTART;TZID=Europe/Paris:20210702T220000
LOCATION:Teatro Avanti
SEQUENCE:0
SUMMARY:VIANA A ESCENA. Desde el Viernes 2 de Julio al Viernes 23 Junio  22
 :00 horas. (Todos los Públicos)
UID:a0d37ae4-5a92-44c4-95ad-8d8a0b1085fe
END:VEVENT
END:VCALENDAR
