BEGIN:VCALENDAR
PRODID:Nexudus
VERSION:2.0
BEGIN:VTIMEZONE
TZID:Europe/Paris
X-LIC-LOCATION:Europe/Paris
BEGIN:STANDARD
DTSTART:20241027T030000
RRULE:FREQ=YEARLY;BYDAY=-1SU;BYMONTH=10
TZNAME:CET
TZOFFSETFROM:+0200
TZOFFSETTO:+0100
END:STANDARD
BEGIN:DAYLIGHT
DTSTART:20250330T020000
RRULE:FREQ=YEARLY;BYDAY=-1SU;BYMONTH=3
TZNAME:CEST
TZOFFSETFROM:+0100
TZOFFSETTO:+0200
END:DAYLIGHT
END:VTIMEZONE
BEGIN:VEVENT
DESCRIPTION:\nEvent link: https://teatroavanti.spaces.nexudus.com/en/events
 /view/1414923863/canto-escuelas-de-musica---domingo-6-junio--20-00-h--entr
 ada-libre-hasta-completar-aforo-\n
DTEND;TZID=Europe/Paris:20210606T200000
DTSTAMP:20260422T010440Z
DTSTART;TZID=Europe/Paris:20210606T080000
LOCATION:Teatro Avanti
SEQUENCE:0
SUMMARY:CANTO ESCUELAS DE MUSICA - Domingo 6 Junio (20:00 h) Entrada libre 
 hasta completar aforo. 
UID:d3c489e2-b1e1-4670-bd90-1000c2b8b840
END:VEVENT
END:VCALENDAR
