BEGIN:VCALENDAR
PRODID:Nexudus
VERSION:2.0
BEGIN:VTIMEZONE
TZID:Europe/Paris
X-LIC-LOCATION:Europe/Paris
BEGIN:STANDARD
DTSTART:20241027T030000
RRULE:FREQ=YEARLY;BYDAY=-1SU;BYMONTH=10
TZNAME:CET
TZOFFSETFROM:+0200
TZOFFSETTO:+0100
END:STANDARD
BEGIN:DAYLIGHT
DTSTART:20250330T020000
RRULE:FREQ=YEARLY;BYDAY=-1SU;BYMONTH=3
TZNAME:CEST
TZOFFSETFROM:+0100
TZOFFSETTO:+0200
END:DAYLIGHT
END:VTIMEZONE
BEGIN:VEVENT
DESCRIPTION:\nEvent link: https://teatroavanti.spaces.nexudus.com/en/events
 /view/1414923668/muestra-de-danza-grupo-2---domingo-13-junio--19-00-h--ent
 rada-libre-hasta-completar-aforo-\n
DTEND;TZID=Europe/Paris:20210613T200000
DTSTAMP:20260421T234333Z
DTSTART;TZID=Europe/Paris:20210613T190000
LOCATION:Teatro Avanti
SEQUENCE:0
SUMMARY:MUESTRA DE DANZA Grupo 2 - Domingo 13 Junio (19:00 h) Entrada libre
  hasta completar aforo.
UID:6b392a80-6661-4ebc-be71-7d8e0899341c
END:VEVENT
END:VCALENDAR
