BEGIN:VCALENDAR
PRODID:Nexudus
VERSION:2.0
BEGIN:VTIMEZONE
TZID:Europe/Paris
X-LIC-LOCATION:Europe/Paris
BEGIN:STANDARD
DTSTART:20241027T030000
RRULE:FREQ=YEARLY;BYDAY=-1SU;BYMONTH=10
TZNAME:CET
TZOFFSETFROM:+0200
TZOFFSETTO:+0100
END:STANDARD
BEGIN:DAYLIGHT
DTSTART:20250330T020000
RRULE:FREQ=YEARLY;BYDAY=-1SU;BYMONTH=3
TZNAME:CEST
TZOFFSETFROM:+0100
TZOFFSETTO:+0200
END:DAYLIGHT
END:VTIMEZONE
BEGIN:VEVENT
DESCRIPTION:\nEvent link: https://teatroavanti.spaces.nexudus.com/en/events
 /view/1414923666/instrumentos-escuela-de-musica--domingo-6-junio--18-00-h-
 -entrada-libre-hasta-completar-aforo-\n
DTEND;TZID=Europe/Paris:20210606T180000
DTSTAMP:20260422T010614Z
DTSTART;TZID=Europe/Paris:20210606T080000
LOCATION:Teatro Avanti
SEQUENCE:0
SUMMARY:INSTRUMENTOS ESCUELA DE MUSICA -Domingo 6 Junio (18:00 h) Entrada l
 ibre hasta completar aforo.
UID:55667e54-8098-473a-bbdb-92700bbb7f8b
END:VEVENT
END:VCALENDAR
