BEGIN:VCALENDAR
PRODID:Nexudus
VERSION:2.0
BEGIN:VTIMEZONE
TZID:Europe/Paris
X-LIC-LOCATION:Europe/Paris
BEGIN:STANDARD
DTSTART:20241027T030000
RRULE:FREQ=YEARLY;BYDAY=-1SU;BYMONTH=10
TZNAME:CET
TZOFFSETFROM:+0200
TZOFFSETTO:+0100
END:STANDARD
BEGIN:DAYLIGHT
DTSTART:20250330T020000
RRULE:FREQ=YEARLY;BYDAY=-1SU;BYMONTH=3
TZNAME:CEST
TZOFFSETFROM:+0100
TZOFFSETTO:+0200
END:DAYLIGHT
END:VTIMEZONE
BEGIN:VEVENT
DESCRIPTION:“Un día en el Teatro” es un viaje de iniciación al teatro
  ofrecido de manera natural. El espectáculo está pensado\npara que sea l
 a primera\, o una de las primeras experiencias teatrales de los niños com
 o espectadores. Pretende\nacerca e iniciar en los diferentes lenguajes tea
 trales: El mimo\, la danza\, el clown\, los títeres\, el circo\, la músi
 ca\,\netc. de una manera sencilla el espectáculo hace un recorrido por lo
 s géneros más conocidos de las artes\nescénicas.\nEvent link: https://t
 eatroavanti.spaces.nexudus.com/en/events/view/1414895673/xv-festival-de-ti
 teres-de-cordoba---un-dia-en-el-teatro----domingo-11-abril-a-las-19h--púb
 lico-familiar-\n
DTEND;TZID=Europe/Paris:20210411T200000
DTSTAMP:20260422T010527Z
DTSTART;TZID=Europe/Paris:20210411T190000
LOCATION:Teatro Avanti
SEQUENCE:0
SUMMARY:XV FESTIVAL DE TITERES DE CORDOBA - UN DIA EN EL TEATRO  - Domingo 
 11 Abril a las 19h (Público Familiar)
UID:c6263153-08fb-4be9-abf2-6d8d936f8f4b
END:VEVENT
END:VCALENDAR
