BEGIN:VCALENDAR
PRODID:Nexudus
VERSION:2.0
BEGIN:VTIMEZONE
TZID:Europe/Paris
X-LIC-LOCATION:Europe/Paris
BEGIN:STANDARD
DTSTART:20241027T030000
RRULE:FREQ=YEARLY;BYDAY=-1SU;BYMONTH=10
TZNAME:CET
TZOFFSETFROM:+0200
TZOFFSETTO:+0100
END:STANDARD
BEGIN:DAYLIGHT
DTSTART:20250330T020000
RRULE:FREQ=YEARLY;BYDAY=-1SU;BYMONTH=3
TZNAME:CEST
TZOFFSETFROM:+0100
TZOFFSETTO:+0200
END:DAYLIGHT
END:VTIMEZONE
BEGIN:VEVENT
DESCRIPTION:Es la historia de tres pequeñas cerditas que se ven obligadas 
 a saltar al mar para sobrevivir y buscar a sus padres. En la granja comien
 za a pasar cosas que ellas van descubriendo\, se van desvelando personajes
  misteriosos que aparecen y lo cambian todo\, por lo que las tres cerditas
  deben enfrentarse en solitario a un largo viaje. ¿Podrán lograrlo las t
 res juntas? Sun\, Quim y Xa\, cada una con sus inquietudes y las tres con 
 la necesidad de sobrevivir y hacer de su vida algo mejor\nEvent link: http
 s://teatroavanti.spaces.nexudus.com/en/events/view/1414895032/xv-festival-
 de-titeres-de-cordoba---las-tres-cerditas-domingo-11-abril--a-las-12h--pú
 blico-familiar-\n
DTEND;TZID=Europe/Paris:20210411T130000
DTSTAMP:20260422T023932Z
DTSTART;TZID=Europe/Paris:20210411T120000
LOCATION:Teatro Avanti
SEQUENCE:0
SUMMARY:XV FESTIVAL DE TITERES DE CORDOBA - LAS TRES CERDITAS Domingo 11 Ab
 ril  a las 12h (Público familiar)
UID:3a3fdc11-6b7b-4e77-a70e-98b7f4b0c302
END:VEVENT
END:VCALENDAR
