BEGIN:VCALENDAR
PRODID:Nexudus
VERSION:2.0
BEGIN:VTIMEZONE
TZID:Europe/Paris
X-LIC-LOCATION:Europe/Paris
BEGIN:STANDARD
DTSTART:20241027T030000
RRULE:FREQ=YEARLY;BYDAY=-1SU;BYMONTH=10
TZNAME:CET
TZOFFSETFROM:+0200
TZOFFSETTO:+0100
END:STANDARD
BEGIN:DAYLIGHT
DTSTART:20250330T020000
RRULE:FREQ=YEARLY;BYDAY=-1SU;BYMONTH=3
TZNAME:CEST
TZOFFSETFROM:+0100
TZOFFSETTO:+0200
END:DAYLIGHT
END:VTIMEZONE
BEGIN:VEVENT
DESCRIPTION:\nEvent link: https://teatroavanti.spaces.nexudus.com/en/events
 /view/1414894722/curso-de-improvisacion\n
DTEND;TZID=Europe/Paris:20210418T150000
DTSTAMP:20260422T010553Z
DTSTART;TZID=Europe/Paris:20210417T100000
LOCATION:Teatro Avanti
SEQUENCE:0
SUMMARY:CURSO DE IMPROVISACION
UID:8d8ae5ed-05d9-4afe-9ffa-c67e17531c1f
END:VEVENT
END:VCALENDAR
